BEGIN:VCALENDAR
VERSION:2.0
PRODID:-//entrinsik//Enrole//EN
METHOD:PUBLISH
X-MS-OLK-FORCEINSPECTOROPEN:TRUE
BEGIN:VTIMEZONE
TZID:America/New_York
BEGIN:STANDARD
DTSTART:20260308T020000
TZOFFSETFROM:-0500
TZOFFSETTO:-0400
END:STANDARD
BEGIN:DAYLIGHT
DTSTART:20261101T020000
TZOFFSETFROM:-0400
TZOFFSETTO:-0500
END:DAYLIGHT
END:VTIMEZONE
BEGIN:VEVENT
UID:20260423T111714Z-C7EBE968ýC7EBE969
PRIORITY:5
CLASS:PUBLIC
TRANSP:OPAQUE
SEQUENCE:0
DTSTAMP:20260423T111714Z
DTSTART;TZID=America/New_York:T
DTEND;TZID=America/New_York:T
DESCRIPTION:Event Description:\n\nFinancial Literacy: Budget and Build Credit\n\nWant to take control of your finances? This course covers budgeting, savings, and credit management. Through interactive activities, you'll set financial goals, create a budget, and understand your credit report.\n\nEvent Schedule:\n\nThis class will be held Tuesday, May 5th at the Beltline Education Center Room 233B.\n\nEvent Location:\n\nClassroom\n3200 Bush St\nRaleigh, NC 27609\n
LOCATION:Classroom, 3200 Bush St, Raleigh, NC, 27609
SUMMARY:Wake Tech: Financial Literacy: Budget and Build Credit 
BEGIN:VALARM
TRIGGER:-P1D
REPEAT:4
DURATION:PT6H
ACTION:DISPLAY
END:VALARM
END:VEVENT
END:VCALENDAR