BEGIN:VCALENDAR
VERSION:2.0
PRODID:-//entrinsik//Enrole//EN
METHOD:PUBLISH
X-MS-OLK-FORCEINSPECTOROPEN:TRUE
BEGIN:VTIMEZONE
TZID:America/New_York
BEGIN:STANDARD
DTSTART:20260308T020000
TZOFFSETFROM:-0500
TZOFFSETTO:-0400
END:STANDARD
BEGIN:DAYLIGHT
DTSTART:20261101T020000
TZOFFSETFROM:-0400
TZOFFSETTO:-0500
END:DAYLIGHT
END:VTIMEZONE
BEGIN:VEVENT
UID:20260423T112210Z-B65E9B18ýB65E9B19
PRIORITY:5
CLASS:PUBLIC
TRANSP:OPAQUE
SEQUENCE:0
DTSTAMP:20260423T112210Z
DTSTART;TZID=America/New_York:T
DTEND;TZID=America/New_York:T
DESCRIPTION:Event Description:\n\nSalary Negotiation\n\nDo you want to ensure that you are being paid what you are worth? Are you unsure on how to negotiate your salary and benefits? Learn and explore resources to determine the market value of your desired position. Assess your worth and develop the necessary skills and strategy to successfully negotiate your salary and benefits. Build your confidence through the opportunity to practice your negotiation skills in class.\n\nEvent Schedule:\n\nThis class will be held on Wednesday, May 20, 2026, via MS Teams.\n\nEvent Location:\n\nVirtual Classroom\n\n,  \n
LOCATION:Virtual Classroom, , , , 
SUMMARY:Wake Tech: Salary Negotiation 
BEGIN:VALARM
TRIGGER:-P1D
REPEAT:4
DURATION:PT6H
ACTION:DISPLAY
END:VALARM
END:VEVENT
END:VCALENDAR