BEGIN:VCALENDAR
VERSION:2.0
PRODID:-//entrinsik//Enrole//EN
METHOD:PUBLISH
X-MS-OLK-FORCEINSPECTOROPEN:TRUE
BEGIN:VTIMEZONE
TZID:America/New_York
BEGIN:STANDARD
DTSTART:20260308T020000
TZOFFSETFROM:-0500
TZOFFSETTO:-0400
END:STANDARD
BEGIN:DAYLIGHT
DTSTART:20261101T020000
TZOFFSETFROM:-0400
TZOFFSETTO:-0500
END:DAYLIGHT
END:VTIMEZONE
BEGIN:VEVENT
UID:20260423T053825Z-C7EB7C08ýC7EB7FF0
PRIORITY:5
CLASS:PUBLIC
TRANSP:OPAQUE
SEQUENCE:0
DTSTAMP:20260423T053825Z
DTSTART;TZID=America/New_York:T
DTEND;TZID=America/New_York:T
DESCRIPTION:Event Description:\n\nDigital Skills for Today's Workforce\n\nDeveloping computer skills is essential to becoming more productive and competitive in the workplace. Increase your confidence using productivity programs including word processor and spreadsheet applications to support your job search. Gain knowledge of cloud applications to use on the job and that allow you to easily access and share your job search files from anywhere. Learn the basics of an online learning platform and video conferencing platform so you can take full advantage of online learning during your job search and on the job.\n\nEvent Schedule:\n\nEvery week on Thursday, starting on 05/21/26 and ending on 05/21/26\n\nEvent Location:\n\nVirtual Classroom\n\n,  \n
LOCATION:Virtual Classroom, , , , 
SUMMARY:Wake Tech: Digital Skills for Today's Workforce 
BEGIN:VALARM
TRIGGER:-P1D
REPEAT:4
DURATION:PT6H
ACTION:DISPLAY
END:VALARM
END:VEVENT
END:VCALENDAR