BEGIN:VCALENDAR
VERSION:2.0
PRODID:-//entrinsik//Enrole//EN
METHOD:PUBLISH
X-MS-OLK-FORCEINSPECTOROPEN:TRUE
BEGIN:VTIMEZONE
TZID:America/New_York
BEGIN:STANDARD
DTSTART:20260308T020000
TZOFFSETFROM:-0500
TZOFFSETTO:-0400
END:STANDARD
BEGIN:DAYLIGHT
DTSTART:20261101T020000
TZOFFSETFROM:-0400
TZOFFSETTO:-0500
END:DAYLIGHT
END:VTIMEZONE
BEGIN:VEVENT
UID:20260423T060031Z-47E766F0
PRIORITY:5
CLASS:PUBLIC
TRANSP:OPAQUE
SEQUENCE:0
DTSTAMP:20260423T060031Z
DTSTART;TZID=America/New_York:20260518T183000
DTEND;TZID=America/New_York:20260518T203000
RRULE:FREQ=WEEKLY;COUNT=4;INTERVAL=1;BYDAY=MO,TU,WE,TH
DESCRIPTION:Event Description:\n\nCareer Readiness: Work From Home\n\nDiscover the world of remote work that thousands already benefit from every day and join their ranks. This course is designed to guide you through authentic remote work opportunities and offer insights into the tools and technology that streamline seamless remote communication. Learn effective strategies for identifying and securing virtual work, equipping you with the knowledge you need to embark on a successful remote working journey.\n\nEvent Schedule:\n\nEvery week on Monday, Tuesday, Wednesday and Thursday, starting on 05/18/26 and ending on 05/21/26\n\nEvent Location:\n\nVirtual Classroom\n\n,  \n
LOCATION:Virtual Classroom, , , , 
SUMMARY:Wake Tech: Career Readiness: Work From Home 
BEGIN:VALARM
TRIGGER:-P1D
REPEAT:4
DURATION:PT6H
ACTION:DISPLAY
END:VALARM
END:VEVENT
END:VCALENDAR