BEGIN:VCALENDAR
VERSION:2.0
PRODID:-//entrinsik//Enrole//EN
METHOD:PUBLISH
X-MS-OLK-FORCEINSPECTOROPEN:TRUE
BEGIN:VTIMEZONE
TZID:America/New_York
BEGIN:STANDARD
DTSTART:20260308T020000
TZOFFSETFROM:-0500
TZOFFSETTO:-0400
END:STANDARD
BEGIN:DAYLIGHT
DTSTART:20261101T020000
TZOFFSETFROM:-0400
TZOFFSETTO:-0500
END:DAYLIGHT
END:VTIMEZONE
BEGIN:VEVENT
UID:20260423T112543Z-1DE16938
PRIORITY:5
CLASS:PUBLIC
TRANSP:OPAQUE
SEQUENCE:0
DTSTAMP:20260423T112543Z
DTSTART;TZID=America/New_York:20260427T130000
DTEND;TZID=America/New_York:20260427T160000
DESCRIPTION:Event Description:\n\nCareer Exploration in Social and Human Services\n\nIf you're passionate about helping others and supporting communities, a career in social and human services could be ideal for you. These professionals provide guidance and resources to improve individuals' lives and are in high demand across settings like community centers, healthcare facilities, schools, and nonprofits. Explore key job responsibilities in case management, advocacy, and crisis intervention, as well as the skills needed for this rewarding field. Learn about the education and training requirements needed to become a social and human services professional.\n\nEvent Schedule:\n\nEvery week on Monday, starting on 04/27/26 and ending on 04/27/26\n\nEvent Location:\n\nVirtual Classroom\n\n,  \n
LOCATION:Virtual Classroom, , , , 
SUMMARY:Wake Tech: Career Exploration in Social and Human Services 
BEGIN:VALARM
TRIGGER:-P1D
REPEAT:4
DURATION:PT6H
ACTION:DISPLAY
END:VALARM
END:VEVENT
END:VCALENDAR