BEGIN:VCALENDAR
VERSION:2.0
PRODID:-//entrinsik//Enrole//EN
METHOD:PUBLISH
X-MS-OLK-FORCEINSPECTOROPEN:TRUE
BEGIN:VTIMEZONE
TZID:America/New_York
BEGIN:STANDARD
DTSTART:20260308T020000
TZOFFSETFROM:-0500
TZOFFSETTO:-0400
END:STANDARD
BEGIN:DAYLIGHT
DTSTART:20261101T020000
TZOFFSETFROM:-0400
TZOFFSETTO:-0500
END:DAYLIGHT
END:VTIMEZONE
BEGIN:VEVENT
UID:20260423T111951Z-1B137058ý1B137440
PRIORITY:5
CLASS:PUBLIC
TRANSP:OPAQUE
SEQUENCE:0
DTSTAMP:20260423T111951Z
DTSTART;TZID=America/New_York:T
DTEND;TZID=America/New_York:T
DESCRIPTION:Event Description:\n\nCareer Exploration in Dental Hygiene\n\nDental hygienists are critical healthcare professionals and the demand for more continues to rise. This course will help you understand the roles of a dental hygienist through a look at the knowledge, skills, and abilities needed to be successful in the industry. Learn about the job responsibilities performed, essential skills, and interpersonal communication skills needed in this career. In this exploration course, you will also learn about Wake Tech course offerings that can help you achieve your career goal as a dental hygienist.\n\nEvent Schedule:\n\nEvery week on Monday, starting on 05/18/26 and ending on 07/06/26\n\nEvent Location:\n\nClassroom\n2901 Holston Lane\nRaleigh, NC 27610\n
LOCATION:Classroom, 2901 Holston Lane, Raleigh, NC, 27610
SUMMARY:Wake Tech: Career Exploration in Dental Hygiene 
BEGIN:VALARM
TRIGGER:-P1D
REPEAT:4
DURATION:PT6H
ACTION:DISPLAY
END:VALARM
END:VEVENT
END:VCALENDAR