BEGIN:VCALENDAR
VERSION:2.0
PRODID:-//entrinsik//Enrole//EN
METHOD:PUBLISH
X-MS-OLK-FORCEINSPECTOROPEN:TRUE
BEGIN:VTIMEZONE
TZID:America/New_York
BEGIN:STANDARD
DTSTART:20260308T020000
TZOFFSETFROM:-0500
TZOFFSETTO:-0400
END:STANDARD
BEGIN:DAYLIGHT
DTSTART:20261101T020000
TZOFFSETFROM:-0400
TZOFFSETTO:-0500
END:DAYLIGHT
END:VTIMEZONE
BEGIN:VEVENT
UID:20260425T104131Z-45861689
PRIORITY:5
CLASS:PUBLIC
TRANSP:OPAQUE
SEQUENCE:0
DTSTAMP:20260425T104131Z
DTSTART;TZID=America/New_York:20260427T080000
DTEND;TZID=America/New_York:20260427T120000
DESCRIPTION:Event Description:\n\nVirtra - Decision-Making in Use-of-Force Events\n\nThis course is designed to train and test new and veteran law enforcement officers, training officers and administrators in the decision-making process during use of force events. The training will focus on how human factors, behavior and crisis for both the subject and officer affect the decision-making process on force determination.\n\nEvent Schedule:\n\nEvery week on Monday, starting on 04/27/26 and ending on 04/27/26\n\nEvent Location:\n\nFats\n321 Chapanoke Rd\nRaleigh, NC 27603\n
LOCATION:Fats, 321 Chapanoke Rd, Raleigh, NC, 27603
SUMMARY:Wake Tech: Virtra - Decision-Making in Use-of-Force Events 
BEGIN:VALARM
TRIGGER:-P1D
REPEAT:4
DURATION:PT6H
ACTION:DISPLAY
END:VALARM
END:VEVENT
END:VCALENDAR