BEGIN:VCALENDAR
VERSION:2.0
PRODID:-//entrinsik//Enrole//EN
METHOD:PUBLISH
X-MS-OLK-FORCEINSPECTOROPEN:TRUE
BEGIN:VTIMEZONE
TZID:America/New_York
BEGIN:STANDARD
DTSTART:20260308T020000
TZOFFSETFROM:-0500
TZOFFSETTO:-0400
END:STANDARD
BEGIN:DAYLIGHT
DTSTART:20261101T020000
TZOFFSETFROM:-0400
TZOFFSETTO:-0500
END:DAYLIGHT
END:VTIMEZONE
BEGIN:VEVENT
UID:20260425T134611Z-289A0AF0
PRIORITY:5
CLASS:PUBLIC
TRANSP:OPAQUE
SEQUENCE:0
DTSTAMP:20260425T134611Z
DTSTART;TZID=America/New_York:20261210T080000
DTEND;TZID=America/New_York:20261210T170000
DESCRIPTION:Event Description:\n\nAsp Basic Baton, Flashlight & Restraints\n\nThe Armament Systems and Procedures (ASP) basic baton, flashlight and restraints training program is simple to learn and easy to understand. The course trains transitioning between weapons and tools through an integrated training system, as well as striking with the baton, restraint application and lighting use techniques.\n\nEvent Schedule:\n\nEvery day, starting on 12/10/26 and ending on 12/10/26\n\nEvent Location:\n\nClassroom\n321 Chapanoke Rd\nRaleigh, NC 27603\n
LOCATION:Classroom, 321 Chapanoke Rd, Raleigh, NC, 27603
SUMMARY:Wake Tech: Asp Basic Baton, Flashlight & Restraints 
BEGIN:VALARM
TRIGGER:-P1D
REPEAT:4
DURATION:PT6H
ACTION:DISPLAY
END:VALARM
END:VEVENT
END:VCALENDAR