BEGIN:VCALENDAR
VERSION:2.0
PRODID:-//entrinsik//Enrole//EN
METHOD:PUBLISH
X-MS-OLK-FORCEINSPECTOROPEN:TRUE
BEGIN:VTIMEZONE
TZID:America/New_York
BEGIN:STANDARD
DTSTART:20260308T020000
TZOFFSETFROM:-0500
TZOFFSETTO:-0400
END:STANDARD
BEGIN:DAYLIGHT
DTSTART:20261101T020000
TZOFFSETFROM:-0400
TZOFFSETTO:-0500
END:DAYLIGHT
END:VTIMEZONE
BEGIN:VEVENT
UID:20260425T152633Z-289A0708
PRIORITY:5
CLASS:PUBLIC
TRANSP:OPAQUE
SEQUENCE:0
DTSTAMP:20260425T152633Z
DTSTART;TZID=America/New_York:20260909T080000
DTEND;TZID=America/New_York:20260909T170000
DESCRIPTION:Event Description:\n\nClose Quarter Combatives: SCAT Advanced Training\n\nThis class is designed to give officers a chance to explore dynamic but natural empty-handed responses to close-quarter attacks. Officers will practice tactics that will allow them to stop, de-escalate, intercept or counter the attack through recognizing the assailant's pre-assault cues. Mental, emotional and physical barriers that occur during potentially violent encounters will also be explored and discussed during this class.\n\nEvent Schedule:\n\nEvery day, starting on 09/09/26 and ending on 09/09/26\n\nEvent Location:\n\nClassroom\n321 Chapanoke Rd\nRaleigh, NC 27603\n
LOCATION:Classroom, 321 Chapanoke Rd, Raleigh, NC, 27603
SUMMARY:Wake Tech: Close Quarter Combatives: SCAT Advanced Training 
BEGIN:VALARM
TRIGGER:-P1D
REPEAT:4
DURATION:PT6H
ACTION:DISPLAY
END:VALARM
END:VEVENT
END:VCALENDAR