BEGIN:VCALENDAR
VERSION:2.0
PRODID:-//entrinsik//Enrole//EN
METHOD:PUBLISH
X-MS-OLK-FORCEINSPECTOROPEN:TRUE
BEGIN:VTIMEZONE
TZID:America/New_York
BEGIN:STANDARD
DTSTART:20260308T020000
TZOFFSETFROM:-0500
TZOFFSETTO:-0400
END:STANDARD
BEGIN:DAYLIGHT
DTSTART:20261101T020000
TZOFFSETFROM:-0400
TZOFFSETTO:-0500
END:DAYLIGHT
END:VTIMEZONE
BEGIN:VEVENT
UID:20260425T134329Z-289A0321
PRIORITY:5
CLASS:PUBLIC
TRANSP:OPAQUE
SEQUENCE:0
DTSTAMP:20260425T134329Z
DTSTART;TZID=America/New_York:20261014T080000
DTEND;TZID=America/New_York:20261014T170000
DESCRIPTION:Event Description:\n\nArresting the Non-Compliant Suspect\n\nDuring the course of their normal duties, law enforcement officers encounter from time-to-time various levels of subject/offender resistance. This course presents officers techniques of control, take-downs and vehicle extractions when arresting and handcuffing non-complaint suspects. This course also includes laws and court rulings concerning the use of force, types of subject resistance and officer control, verbal and nonverbal cues leading to subject resistance and attacks.\n\nEvent Schedule:\n\nEvery day, starting on 10/14/26 and ending on 10/14/26\n\nEvent Location:\n\nClassroom\n321 Chapanoke Rd\nRaleigh, NC 27603\n
LOCATION:Classroom, 321 Chapanoke Rd, Raleigh, NC, 27603
SUMMARY:Wake Tech: Arresting the Non-Compliant Suspect 
BEGIN:VALARM
TRIGGER:-P1D
REPEAT:4
DURATION:PT6H
ACTION:DISPLAY
END:VALARM
END:VEVENT
END:VCALENDAR