BEGIN:VCALENDAR
VERSION:2.0
PRODID:-//entrinsik//Enrole//EN
METHOD:PUBLISH
X-MS-OLK-FORCEINSPECTOROPEN:TRUE
BEGIN:VTIMEZONE
TZID:America/New_York
BEGIN:STANDARD
DTSTART:20260308T020000
TZOFFSETFROM:-0500
TZOFFSETTO:-0400
END:STANDARD
BEGIN:DAYLIGHT
DTSTART:20261101T020000
TZOFFSETFROM:-0400
TZOFFSETTO:-0500
END:DAYLIGHT
END:VTIMEZONE
BEGIN:VEVENT
UID:20260419T085241Z-571AF658
PRIORITY:5
CLASS:PUBLIC
TRANSP:OPAQUE
SEQUENCE:0
DTSTAMP:20260419T085241Z
DTSTART;TZID=America/New_York:20260420T080000
DTEND;TZID=America/New_York:20260420T170000
DESCRIPTION:Event Description:\n\nSFST Refresher\n\nThis course is designed as a refresher for those who have already completed a DWI Detection and SFST class (proof is required). Participants will learn about new issues of importance in addition to thoroughly reviewing the standardized battery of tests and related topics. In order to successfully complete the course, participants must pass a written test and prove proficient when administering the field tests.\n\nEvent Schedule:\n\nEvery week on Monday, starting on 04/20/26 and ending on 04/20/26\n\nEvent Location:\n\nClassroom\n321 Chapanoke Rd\nRaleigh, NC 27603\n
LOCATION:Classroom, 321 Chapanoke Rd, Raleigh, NC, 27603
SUMMARY:Wake Tech: SFST Refresher 
BEGIN:VALARM
TRIGGER:-P1D
REPEAT:4
DURATION:PT6H
ACTION:DISPLAY
END:VALARM
END:VEVENT
END:VCALENDAR