BEGIN:VCALENDAR
VERSION:2.0
PRODID:-//entrinsik//Enrole//EN
METHOD:PUBLISH
X-MS-OLK-FORCEINSPECTOROPEN:TRUE
BEGIN:VTIMEZONE
TZID:America/New_York
BEGIN:STANDARD
DTSTART:20260308T020000
TZOFFSETFROM:-0500
TZOFFSETTO:-0400
END:STANDARD
BEGIN:DAYLIGHT
DTSTART:20261101T020000
TZOFFSETFROM:-0400
TZOFFSETTO:-0500
END:DAYLIGHT
END:VTIMEZONE
BEGIN:VEVENT
UID:20260419T002158Z-3375B578ý3375B960
PRIORITY:5
CLASS:PUBLIC
TRANSP:OPAQUE
SEQUENCE:0
DTSTAMP:20260419T002158Z
DTSTART;TZID=America/New_York:T
DTEND;TZID=America/New_York:T
DESCRIPTION:Event Description:\n\nFirearms In-Service Training & Qualification -- Dept of Corrections\n\nThe purpose of this course is to test the ability of the shooter to use the weapon(s) under conditions simulating the actual duty use of the weapon(s).\n\nEvent Schedule:\n\nEvery week on Monday, starting on 04/20/26 and ending on 04/20/26\n\nEvent Location:\n\nFiring Range\n321 Chapanoke Rd\nRaleigh, NC 27603\n
LOCATION:Firing Range, 321 Chapanoke Rd, Raleigh, NC, 27603
SUMMARY:Wake Tech: Firearms In-Service Training & Qualification -- Dept of Corrections 
BEGIN:VALARM
TRIGGER:-P1D
REPEAT:4
DURATION:PT6H
ACTION:DISPLAY
END:VALARM
END:VEVENT
END:VCALENDAR