BEGIN:VCALENDAR
VERSION:2.0
PRODID:-//entrinsik//Enrole//EN
METHOD:PUBLISH
X-MS-OLK-FORCEINSPECTOROPEN:TRUE
BEGIN:VTIMEZONE
TZID:America/New_York
BEGIN:STANDARD
DTSTART:20260308T020000
TZOFFSETFROM:-0500
TZOFFSETTO:-0400
END:STANDARD
BEGIN:DAYLIGHT
DTSTART:20261101T020000
TZOFFSETFROM:-0400
TZOFFSETTO:-0500
END:DAYLIGHT
END:VTIMEZONE
BEGIN:VEVENT
UID:20260422T083455Z-BA8CA900
PRIORITY:5
CLASS:PUBLIC
TRANSP:OPAQUE
SEQUENCE:0
DTSTAMP:20260422T083455Z
DTSTART;TZID=America/New_York:20261026T080000
DTEND;TZID=America/New_York:20261026T163000
RRULE:FREQ=DAILY;COUNT=4;INTERVAL=1
DESCRIPTION:\nClass Title:   #501 Curso de Entrenador en Estándares de Seguridad y Salud Ocupacional para la Industria General\n\nEvent Location:\nEntrenamiento Virtual-Dirigido por Instructor\nFacilitado en Microsoft Teams\nSe recomienda una conexión a Internet de alta velocidad., - -\n
LOCATION:Entrenamiento Virtual-Dirigido por Instructor, Facilitado en Microsoft Teams, Se recomienda una conexión a Internet de alta velocidad., -, -
SUMMARY:#501 Curso de Entrenador en Estándares de Seguridad y Salud Ocupacional para la Industria General 
BEGIN:VALARM
TRIGGER:-P1D
REPEAT:4
DURATION:PT6H
ACTION:DISPLAY
END:VALARM
END:VEVENT
BEGIN:VEVENT
CLASS:PUBLIC
CREATED:20260422T083455Z
DTSTAMP:20260422T083455Z
LAST-MODIFIED:20260422T083455Z
DTSTART:20261029T080000
DTEND:20261029T120000
PRIORITY:5
RECURRENCE-ID:20261029
SEQUENCE:0
TRANSP:OPAQUE
UID:20260422T083455Z-BA8CA900
END:VEVENT
END:VCALENDAR