BEGIN:VCALENDAR
VERSION:2.0
PRODID:-//entrinsik//Enrole//EN
METHOD:PUBLISH
X-MS-OLK-FORCEINSPECTOROPEN:TRUE
BEGIN:VTIMEZONE
TZID:America/New_York
BEGIN:STANDARD
DTSTART:20260308T020000
TZOFFSETFROM:-0500
TZOFFSETTO:-0400
END:STANDARD
BEGIN:DAYLIGHT
DTSTART:20261101T020000
TZOFFSETFROM:-0400
TZOFFSETTO:-0500
END:DAYLIGHT
END:VTIMEZONE
BEGIN:VEVENT
UID:20260423T141752Z-3DBE2CD8
PRIORITY:5
CLASS:PUBLIC
TRANSP:OPAQUE
SEQUENCE:0
DTSTAMP:20260423T141752Z
DTSTART;TZID=America/New_York:20260803T080000
DTEND;TZID=America/New_York:20260803T163000
RRULE:FREQ=DAILY;COUNT=4;INTERVAL=1
DESCRIPTION:\nClass Title:   #501 Trainer Course in Occupational Safety and Health Standards for General Industry\n\nEvent Location:\nUSF OTIEC Wesley Chapel FL\n2612 Cypress Ridge Blvd Suite 101\nWesley Chapel, FL 33544\n
LOCATION:USF OTIEC Wesley Chapel FL, 2612 Cypress Ridge Blvd Suite 101, Wesley Chapel, FL, 33544
SUMMARY:#501 Trainer Course in Occupational Safety and Health Standards for General Industry 
BEGIN:VALARM
TRIGGER:-P1D
REPEAT:4
DURATION:PT6H
ACTION:DISPLAY
END:VALARM
END:VEVENT
END:VCALENDAR