BEGIN:VCALENDAR
VERSION:2.0
PRODID:-//entrinsik//Enrole//EN
METHOD:PUBLISH
X-MS-OLK-FORCEINSPECTOROPEN:TRUE
BEGIN:VTIMEZONE
TZID:America/Los_Angeles
BEGIN:STANDARD
DTSTART:20260308T020000
TZOFFSETFROM:-0800
TZOFFSETTO:-0700
END:STANDARD
BEGIN:DAYLIGHT
DTSTART:20261101T020000
TZOFFSETFROM:-0700
TZOFFSETTO:-0800
END:DAYLIGHT
END:VTIMEZONE
BEGIN:VEVENT
UID:20260422T083707Z-F68375C0
PRIORITY:5
CLASS:PUBLIC
TRANSP:OPAQUE
SEQUENCE:0
DTSTAMP:20260422T083707Z
DTSTART;TZID=America/Los_Angeles:20260509T090000
DTEND;TZID=America/Los_Angeles:20260509T130000
DESCRIPTION:Event Description:\n\nUpcycle Envelopes Journal \n\nIn our final week, we'll transform those old return envelopes into beautiful, functional journals or scrapbooks. Bring 3 standard-sized return envelopes (or we'll provide them if you don't have any) and learn how to upcycle them into a charming journal for memories or notes. It's a fantastic way to reuse paper while creating something personal and special. \n\nEvent Schedule:\n\nEvery day, starting on 05/09/26 and ending on 05/09/26\n\nEvent Location:\n\nTAP 14\n1140 Umpqua College Rd \nRoseburg, OR 97470\n
LOCATION:TAP 14, 1140 Umpqua College Rd, Roseburg, OR, 97470
SUMMARY:Upcycle Envelopes Journal
BEGIN:VALARM
TRIGGER:-P1D
REPEAT:4
DURATION:PT6H
ACTION:DISPLAY
END:VALARM
END:VEVENT
END:VCALENDAR