BEGIN:VCALENDAR
VERSION:2.0
PRODID:-//entrinsik//Enrole//EN
METHOD:PUBLISH
X-MS-OLK-FORCEINSPECTOROPEN:TRUE
BEGIN:VTIMEZONE
TZID:America/Los_Angeles
BEGIN:STANDARD
DTSTART:20260308T020000
TZOFFSETFROM:-0800
TZOFFSETTO:-0700
END:STANDARD
BEGIN:DAYLIGHT
DTSTART:20261101T020000
TZOFFSETFROM:-0700
TZOFFSETTO:-0800
END:DAYLIGHT
END:VTIMEZONE
BEGIN:VEVENT
UID:20260422T085012Z-F68060B0
PRIORITY:5
CLASS:PUBLIC
TRANSP:OPAQUE
SEQUENCE:0
DTSTAMP:20260422T085012Z
DTSTART;TZID=America/Los_Angeles:20260425T090000
DTEND;TZID=America/Los_Angeles:20260425T130000
DESCRIPTION:Event Description:\n\nOne Sheet Wonder Cards \n\nIn week two we'll make the most out of just one sheet of patterned paper to create several unique cards. Learn the art of cutting and assembling to maximize your paper's potential, while keeping designs fresh and creative. You'll walk away with multiple cards made from a single sheet, perfect for any occasion. \n\nEvent Schedule:\n\nEvery day, starting on 04/25/26 and ending on 04/25/26\n\nEvent Location:\n\nTAP 14\n1140 Umpqua College Rd \nRoseburg, OR 97470\n
LOCATION:TAP 14, 1140 Umpqua College Rd, Roseburg, OR, 97470
SUMMARY:One Sheet Wonder Cards
BEGIN:VALARM
TRIGGER:-P1D
REPEAT:4
DURATION:PT6H
ACTION:DISPLAY
END:VALARM
END:VEVENT
END:VCALENDAR