BEGIN:VCALENDAR
VERSION:2.0
PRODID:-//entrinsik//Enrole//EN
METHOD:PUBLISH
X-MS-OLK-FORCEINSPECTOROPEN:TRUE
BEGIN:VTIMEZONE
TZID:America/Los_Angeles
BEGIN:STANDARD
DTSTART:20260308T020000
TZOFFSETFROM:-0800
TZOFFSETTO:-0700
END:STANDARD
BEGIN:DAYLIGHT
DTSTART:20261101T020000
TZOFFSETFROM:-0700
TZOFFSETTO:-0800
END:DAYLIGHT
END:VTIMEZONE
BEGIN:VEVENT
UID:20260420T035051Z-2F09A8C0
PRIORITY:5
CLASS:PUBLIC
TRANSP:OPAQUE
SEQUENCE:0
DTSTAMP:20260420T035051Z
DTSTART;TZID=America/Los_Angeles:20260527T080000
DTEND;TZID=America/Los_Angeles:20260527T170000
RRULE:FREQ=WEEKLY;COUNT=4;INTERVAL=1;BYDAY=WE,TH,FR,SA
DESCRIPTION:Event Description:\n\nLimited Pump Installer Contractors License \n\nThis course will serve in lieu of the one-year experience required for the Limited Pump Installer's license. This course is appropriate for people wanting a Limited Pump Installer Contractors License and is for Residential only NOT Commercial.  Limited space available. OAR 918-030-0015 requires contractors registered with the Building codes Division to maintain an active CCB license. Be sure to provide the business/company's CCB number and expiration date. If the business is exempt from CCB licensure, submit with the application a letter, on letterhead, stating the reason for the exemption. Limited space available. Call 541-440-4668 for more information. \n\nEvent Schedule:\n\nEvery week on Wednesday, Thursday, Friday and Saturday, starting on 05/27/26 and ending on 05/30/26\n\nEvent Location:\n\nTC 119\n1140 Umpqua College Rd \nRoseburg, OR 97470\n
LOCATION:TC 119, 1140 Umpqua College Rd, Roseburg, OR, 97470
SUMMARY:Limited Pump Installer Contractors License
BEGIN:VALARM
TRIGGER:-P1D
REPEAT:4
DURATION:PT6H
ACTION:DISPLAY
END:VALARM
END:VEVENT
END:VCALENDAR