BEGIN:VCALENDAR
VERSION:2.0
PRODID:-//entrinsik//Enrole//EN
METHOD:PUBLISH
X-MS-OLK-FORCEINSPECTOROPEN:TRUE
BEGIN:VTIMEZONE
TZID:America/Los_Angeles
BEGIN:STANDARD
DTSTART:20260308T020000
TZOFFSETFROM:-0800
TZOFFSETTO:-0700
END:STANDARD
BEGIN:DAYLIGHT
DTSTART:20261101T020000
TZOFFSETFROM:-0700
TZOFFSETTO:-0800
END:DAYLIGHT
END:VTIMEZONE
BEGIN:VEVENT
UID:20260422T083707Z-F681EB38
PRIORITY:5
CLASS:PUBLIC
TRANSP:OPAQUE
SEQUENCE:0
DTSTAMP:20260422T083707Z
DTSTART;TZID=America/Los_Angeles:20260516T090000
DTEND;TZID=America/Los_Angeles:20260516T130000
DESCRIPTION:Event Description:\n\nFun Folds Cards \n\nIn Week 3, we're stepping up the creativity with fun and interactive folds! Learn how to create 4-6 cards that pop, fold, and surprise with unique designs. This week is all about adding flair and personality to your handmade cards while experimenting with new folding techniques. \n\nEvent Schedule:\n\nEvery day, starting on 05/16/26 and ending on 05/16/26\n\nEvent Location:\n\nTAP 14\n1140 Umpqua College Rd \nRoseburg, OR 97470\n
LOCATION:TAP 14, 1140 Umpqua College Rd, Roseburg, OR, 97470
SUMMARY:Fun Folds Cards
BEGIN:VALARM
TRIGGER:-P1D
REPEAT:4
DURATION:PT6H
ACTION:DISPLAY
END:VALARM
END:VEVENT
END:VCALENDAR