BEGIN:VCALENDAR
VERSION:2.0
PRODID:-//entrinsik//Enrole//EN
METHOD:PUBLISH
X-MS-OLK-FORCEINSPECTOROPEN:TRUE
BEGIN:VTIMEZONE
TZID:America/Chicago
BEGIN:STANDARD
DTSTART:20260308T020000
TZOFFSETFROM:-0600
TZOFFSETTO:-0500
END:STANDARD
BEGIN:DAYLIGHT
DTSTART:20261101T020000
TZOFFSETFROM:-0500
TZOFFSETTO:-0600
END:DAYLIGHT
END:VTIMEZONE
BEGIN:VEVENT
UID:20260420T071645Z-428F8030
PRIORITY:5
CLASS:PUBLIC
TRANSP:OPAQUE
SEQUENCE:0
DTSTAMP:20260420T071645Z
DTSTART;TZID=America/Chicago:20260511T180000
DTEND;TZID=America/Chicago:20260511T210000
RRULE:FREQ=WEEKLY;COUNT=15;INTERVAL=1;BYDAY=MO,WE
EXDATE;VALUE=DATE:20260525
DESCRIPTION:Event Description:\n\nGas Metal Arc Welding - MIG\n\nAcquire knowledge of the technical steps of welding safety, gas metal arc welding, metal transfer, shielding gases, and equipment adjustments. Perform multiple pass fillet and groove welds on carbon steel plate in all positions. PPE required.\n\nEvent Schedule:\n\nEvery week on Monday and Wednesday, starting on 05/11/26 and ending on 06/29/26 (excluding 05/25/26)\n\nEvent Location:\n\nWelding Technology Shop (H106)\n3420 South Memorial Drive\nTulsa, OK 74147\n
LOCATION:Welding Technology Shop (H106), 3420 South Memorial Drive, Tulsa, OK, 74147
SUMMARY:Session Schedule: Gas Metal Arc Welding - MIG
BEGIN:VALARM
TRIGGER:-P1D
REPEAT:4
DURATION:PT6H
ACTION:DISPLAY
END:VALARM
END:VEVENT
END:VCALENDAR