BEGIN:VCALENDAR
VERSION:2.0
PRODID:-//entrinsik//Enrole//EN
METHOD:PUBLISH
X-MS-OLK-FORCEINSPECTOROPEN:TRUE
BEGIN:VTIMEZONE
TZID:America/Chicago
BEGIN:STANDARD
DTSTART:20260308T020000
TZOFFSETFROM:-0600
TZOFFSETTO:-0500
END:STANDARD
BEGIN:DAYLIGHT
DTSTART:20261101T020000
TZOFFSETFROM:-0500
TZOFFSETTO:-0600
END:DAYLIGHT
END:VTIMEZONE
BEGIN:VEVENT
UID:20260424T035125Z-F1775140
PRIORITY:5
CLASS:PUBLIC
TRANSP:OPAQUE
SEQUENCE:0
DTSTAMP:20260424T035125Z
DTSTART;TZID=America/Chicago:20260427T180000
DTEND;TZID=America/Chicago:20260427T220000
RRULE:FREQ=WEEKLY;COUNT=9;INTERVAL=1;BYDAY=MO
EXDATE;VALUE=DATE:20260525
DESCRIPTION:Event Description:\n\nMixing Techniques for Music Productions\n\nDo you want to mix your music productions like a pro? Master the art of compression, equalization effects, automation, and more.\n\nEvent Schedule:\n\nEvery week on Monday, starting on 04/27/26 and ending on 06/22/26 (excluding 05/25/26)\n\nEvent Location:\n\nBroadcast Sound Engineering Tech Classroom (E118)\n801 East 91st Street\nTulsa, OK 74132\n
LOCATION:Broadcast Sound Engineering Tech Classroom (E118), 801 East 91st Street, Tulsa, OK, 74132
SUMMARY:Session Schedule: Mixing Techniques for Music Productions
BEGIN:VALARM
TRIGGER:-P1D
REPEAT:4
DURATION:PT6H
ACTION:DISPLAY
END:VALARM
END:VEVENT
END:VCALENDAR