BEGIN:VCALENDAR
VERSION:2.0
PRODID:-//entrinsik//Enrole//EN
METHOD:PUBLISH
X-MS-OLK-FORCEINSPECTOROPEN:TRUE
BEGIN:VTIMEZONE
TZID:America/Chicago
BEGIN:STANDARD
DTSTART:20260308T020000
TZOFFSETFROM:-0600
TZOFFSETTO:-0500
END:STANDARD
BEGIN:DAYLIGHT
DTSTART:20261101T020000
TZOFFSETFROM:-0500
TZOFFSETTO:-0600
END:DAYLIGHT
END:VTIMEZONE
BEGIN:VEVENT
UID:20260423T141744Z-89DBCAF8
PRIORITY:5
CLASS:PUBLIC
TRANSP:OPAQUE
SEQUENCE:0
DTSTAMP:20260423T141744Z
DTSTART;TZID=America/Chicago:20260522T080000
DTEND;TZID=America/Chicago:20260522T110000
DESCRIPTION:Event Description:\n\nBasic Intravenous Therapy - MA\n\nDevelop your skills in initiating and maintaining intravenous (IV) access in the office setting as a Medical Assistant. Eligible for 6-hours CME by NCCT.\n\nEvent Schedule:\n\nEvery week on Friday, starting on 05/22/26 and ending on 05/22/26\n\nEvent Location:\n\nACD Lab (1305)\n3350 South Memorial Drive\nTulsa, OK 74145\n
LOCATION:ACD Lab (1305), 3350 South Memorial Drive, Tulsa, OK, 74145
SUMMARY:Session Schedule: Basic Intravenous Therapy - MA
BEGIN:VALARM
TRIGGER:-P1D
REPEAT:4
DURATION:PT6H
ACTION:DISPLAY
END:VALARM
END:VEVENT
END:VCALENDAR