BEGIN:VCALENDAR
VERSION:2.0
PRODID:-//entrinsik//Enrole//EN
METHOD:PUBLISH
X-MS-OLK-FORCEINSPECTOROPEN:TRUE
BEGIN:VTIMEZONE
TZID:America/Chicago
BEGIN:STANDARD
DTSTART:20260308T020000
TZOFFSETFROM:-0600
TZOFFSETTO:-0500
END:STANDARD
BEGIN:DAYLIGHT
DTSTART:20261101T020000
TZOFFSETFROM:-0500
TZOFFSETTO:-0600
END:DAYLIGHT
END:VTIMEZONE
BEGIN:VEVENT
UID:20260420T071337Z-1962FA78
PRIORITY:5
CLASS:PUBLIC
TRANSP:OPAQUE
SEQUENCE:0
DTSTAMP:20260420T071337Z
DTSTART;TZID=America/Chicago:20260609T180000
DTEND;TZID=America/Chicago:20260609T210000
RRULE:FREQ=WEEKLY;COUNT=6;INTERVAL=1;BYDAY=TU,TH
DESCRIPTION:Event Description:\n\nExploring Autodesk® Fusion\n\nStep into the world of Autodesk Fusion, where even the most basic ideas are turned into professional-grade designs. Discover how parts are imagined and realized using digital design and bring your ideas from concept to reality.\n\nEvent Schedule:\n\nEvery week on Tuesday and Thursday, starting on 06/09/26 and ending on 06/25/26\n\nEvent Location:\n\nMachining H.S. Classroom (1225)\n4000 W Florence St\nBroken Arrow, OK 74011\n
LOCATION:Machining H.S. Classroom (1225), 4000 W Florence St, Broken Arrow, OK, 74011
SUMMARY:Session Schedule: Exploring Autodesk® Fusion
BEGIN:VALARM
TRIGGER:-P1D
REPEAT:4
DURATION:PT6H
ACTION:DISPLAY
END:VALARM
END:VEVENT
END:VCALENDAR