BEGIN:VCALENDAR
VERSION:2.0
PRODID:-//entrinsik//Enrole//EN
METHOD:PUBLISH
X-MS-OLK-FORCEINSPECTOROPEN:TRUE
BEGIN:VTIMEZONE
TZID:America/Chicago
BEGIN:STANDARD
DTSTART:20260308T020000
TZOFFSETFROM:-0600
TZOFFSETTO:-0500
END:STANDARD
BEGIN:DAYLIGHT
DTSTART:20261101T020000
TZOFFSETFROM:-0500
TZOFFSETTO:-0600
END:DAYLIGHT
END:VTIMEZONE
BEGIN:VEVENT
UID:20260420T065535Z-1962D751
PRIORITY:5
CLASS:PUBLIC
TRANSP:OPAQUE
SEQUENCE:0
DTSTAMP:20260420T065535Z
DTSTART;TZID=America/Chicago:20260430T173000
DTEND;TZID=America/Chicago:20260430T213000
RRULE:FREQ=WEEKLY;COUNT=10;INTERVAL=1;BYDAY=TU,TH
DESCRIPTION:Event Description:\n\nCNC Programming Using Esprit\n\nProgram CNC toolpaths using the most current version of ESPRIT CAM software. Upgrade skills in 2-axis and 4-axis milling, 3D milling, and 2-axis and 4-axis turning.\n\nEvent Schedule:\n\nEvery week on Tuesday and Thursday, starting on 04/30/26 and ending on 06/02/26\n\nEvent Location:\n\nMachining H.S. Classroom (1225)\n4000 W Florence St\nBroken Arrow, OK 74011\n
LOCATION:Machining H.S. Classroom (1225), 4000 W Florence St, Broken Arrow, OK, 74011
SUMMARY:Session Schedule: CNC Programming Using Esprit
BEGIN:VALARM
TRIGGER:-P1D
REPEAT:4
DURATION:PT6H
ACTION:DISPLAY
END:VALARM
END:VEVENT
END:VCALENDAR