BEGIN:VCALENDAR
VERSION:2.0
PRODID:-//entrinsik//Enrole//EN
METHOD:PUBLISH
X-MS-OLK-FORCEINSPECTOROPEN:TRUE
BEGIN:VTIMEZONE
TZID:America/Chicago
BEGIN:STANDARD
DTSTART:20260308T020000
TZOFFSETFROM:-0600
TZOFFSETTO:-0500
END:STANDARD
BEGIN:DAYLIGHT
DTSTART:20261101T020000
TZOFFSETFROM:-0500
TZOFFSETTO:-0600
END:DAYLIGHT
END:VTIMEZONE
BEGIN:VEVENT
UID:20260420T065453Z-428F0EE8
PRIORITY:5
CLASS:PUBLIC
TRANSP:OPAQUE
SEQUENCE:0
DTSTAMP:20260420T065453Z
DTSTART;TZID=America/Chicago:20260519T170000
DTEND;TZID=America/Chicago:20260519T210000
RRULE:FREQ=WEEKLY;COUNT=10;INTERVAL=1;BYDAY=TU,TH
DESCRIPTION:Event Description:\n\nProgrammable Controllers, Part 1\n\nSet up and troubleshoot PLCs for control applications. Use logic instructions, timers, and Ethernet tools to manage motors and automated systems.\n\nEvent Schedule:\n\nEvery week on Tuesday and Thursday, starting on 05/19/26 and ending on 06/18/26\n\nEvent Location:\n\nTraining Room 21A(2403)\n3638 South Memorial Drive\nTulsa, OK 74145\n
LOCATION:Training Room 21A(2403), 3638 South Memorial Drive, Tulsa, OK, 74145
SUMMARY:Session Schedule: Programmable Controllers, Part 1
BEGIN:VALARM
TRIGGER:-P1D
REPEAT:4
DURATION:PT6H
ACTION:DISPLAY
END:VALARM
END:VEVENT
END:VCALENDAR