BEGIN:VCALENDAR
VERSION:2.0
PRODID:-//entrinsik//Enrole//EN
METHOD:PUBLISH
X-MS-OLK-FORCEINSPECTOROPEN:TRUE
BEGIN:VTIMEZONE
TZID:America/Chicago
BEGIN:STANDARD
DTSTART:20260308T020000
TZOFFSETFROM:-0600
TZOFFSETTO:-0500
END:STANDARD
BEGIN:DAYLIGHT
DTSTART:20261101T020000
TZOFFSETFROM:-0500
TZOFFSETTO:-0600
END:DAYLIGHT
END:VTIMEZONE
BEGIN:VEVENT
UID:20260420T065345Z-428EEFA8
PRIORITY:5
CLASS:PUBLIC
TRANSP:OPAQUE
SEQUENCE:0
DTSTAMP:20260420T065345Z
DTSTART;TZID=America/Chicago:20260421T170000
DTEND;TZID=America/Chicago:20260421T210000
RRULE:FREQ=WEEKLY;COUNT=6;INTERVAL=1;BYDAY=TU,TH
DESCRIPTION:Event Description:\n\nAC/DC Electrical\n\nWork with real-world AC/DC systems to power, measure, and troubleshoot circuits. Build skills using meters, transformers, and components found in industrial, commercial, and residential settings.\n\nEvent Schedule:\n\nEvery week on Tuesday and Thursday, starting on 04/21/26 and ending on 05/07/26\n\nEvent Location:\n\nTraining Room 21A(2403)\n3638 South Memorial Drive\nTulsa, OK 74145\n
LOCATION:Training Room 21A(2403), 3638 South Memorial Drive, Tulsa, OK, 74145
SUMMARY:Session Schedule: AC/DC Electrical
BEGIN:VALARM
TRIGGER:-P1D
REPEAT:4
DURATION:PT6H
ACTION:DISPLAY
END:VALARM
END:VEVENT
END:VCALENDAR