BEGIN:VCALENDAR
VERSION:2.0
PRODID:-//entrinsik//Enrole//EN
METHOD:PUBLISH
X-MS-OLK-FORCEINSPECTOROPEN:TRUE
BEGIN:VTIMEZONE
TZID:America/Chicago
BEGIN:STANDARD
DTSTART:20260308T020000
TZOFFSETFROM:-0600
TZOFFSETTO:-0500
END:STANDARD
BEGIN:DAYLIGHT
DTSTART:20261101T020000
TZOFFSETFROM:-0500
TZOFFSETTO:-0600
END:DAYLIGHT
END:VTIMEZONE
BEGIN:VEVENT
UID:20260423T101652Z-EF7DF240
PRIORITY:5
CLASS:PUBLIC
TRANSP:OPAQUE
SEQUENCE:0
DTSTAMP:20260423T101652Z
DTSTART;TZID=America/Chicago:20260425T080000
DTEND;TZID=America/Chicago:20260425T130000
DESCRIPTION:Event Description:\n\nPediatric First Aid/CPR/AED - ARC\n\nThis class meets DHS childcare licensing requirements. Designed for all individuals involved in childcare: new parents, guardians, and childcare workers. Practice lifesaving skills to rescue infants, children, and adults in cardiopulmonary distress, including prevention, first aid, and CPR using the American Red Cross (ARC) guidelines.\n\nEvent Schedule:\n\nEvery week on Saturday, starting on 04/25/26 and ending on 04/25/26\n\nEvent Location:\n\nACD Lab (1305)\n3350 South Memorial Drive\nTulsa, OK 74145\n
LOCATION:ACD Lab (1305), 3350 South Memorial Drive, Tulsa, OK, 74145
SUMMARY:Session Schedule: Pediatric First Aid/CPR/AED - ARC
BEGIN:VALARM
TRIGGER:-P1D
REPEAT:4
DURATION:PT6H
ACTION:DISPLAY
END:VALARM
END:VEVENT
END:VCALENDAR