BEGIN:VCALENDAR
VERSION:2.0
PRODID:-//entrinsik//Enrole//EN
METHOD:PUBLISH
X-MS-OLK-FORCEINSPECTOROPEN:TRUE
BEGIN:VTIMEZONE
TZID:America/Chicago
BEGIN:STANDARD
DTSTART:20260308T020000
TZOFFSETFROM:-0600
TZOFFSETTO:-0500
END:STANDARD
BEGIN:DAYLIGHT
DTSTART:20261101T020000
TZOFFSETFROM:-0500
TZOFFSETTO:-0600
END:DAYLIGHT
END:VTIMEZONE
BEGIN:VEVENT
UID:20260420T003325Z-F178D7E0
PRIORITY:5
CLASS:PUBLIC
TRANSP:OPAQUE
SEQUENCE:0
DTSTAMP:20260420T003325Z
DTSTART;TZID=America/Chicago:20260625T140000
DTEND;TZID=America/Chicago:20260625T170000
DESCRIPTION:Event Description:\n\nSmall Business Financing\n\nGain insight into building and managing business credit and evaluating financing options. Explore funding sources such as debt, equity, and government grants to support small business growth and long-term success. Brought to you by Tulsa Tech at Gradient.\n\nEvent Schedule:\n\nEvery week on Thursday, starting on 06/25/26 and ending on 06/25/26\n\nEvent Location:\n\nGradient\n12 North Cheyenne Ave\nTulsa, OK 74103\n
LOCATION:Gradient, 12 North Cheyenne Ave, Tulsa, OK, 74103
SUMMARY:Session Schedule: Small Business Financing
BEGIN:VALARM
TRIGGER:-P1D
REPEAT:4
DURATION:PT6H
ACTION:DISPLAY
END:VALARM
END:VEVENT
END:VCALENDAR