BEGIN:VCALENDAR
VERSION:2.0
PRODID:-//entrinsik//Enrole//EN
METHOD:PUBLISH
X-MS-OLK-FORCEINSPECTOROPEN:TRUE
BEGIN:VTIMEZONE
TZID:America/Chicago
BEGIN:STANDARD
DTSTART:20260308T020000
TZOFFSETFROM:-0600
TZOFFSETTO:-0500
END:STANDARD
BEGIN:DAYLIGHT
DTSTART:20261101T020000
TZOFFSETFROM:-0500
TZOFFSETTO:-0600
END:DAYLIGHT
END:VTIMEZONE
BEGIN:VEVENT
UID:20260420T001333Z-F178A130
PRIORITY:5
CLASS:PUBLIC
TRANSP:OPAQUE
SEQUENCE:0
DTSTAMP:20260420T001333Z
DTSTART;TZID=America/Chicago:20260507T140000
DTEND;TZID=America/Chicago:20260507T170000
DESCRIPTION:Event Description:\n\nBusiness Valuation\n\nDevelop the ability to assess business value using DCF, market, and asset-based methods. Explore when each approach is most effective, and how legal, financial, and strategic factors influence valuation for sound investment and business decisions. Brought to you by Tulsa Tech at Gradient.\n\nEvent Schedule:\n\nEvery week on Thursday, starting on 05/07/26 and ending on 05/07/26\n\nEvent Location:\n\nGradient\n12 North Cheyenne Ave\nTulsa, OK 74103\n
LOCATION:Gradient, 12 North Cheyenne Ave, Tulsa, OK, 74103
SUMMARY:Session Schedule: Business Valuation
BEGIN:VALARM
TRIGGER:-P1D
REPEAT:4
DURATION:PT6H
ACTION:DISPLAY
END:VALARM
END:VEVENT
END:VCALENDAR