BEGIN:VCALENDAR
VERSION:2.0
PRODID:-//entrinsik//Enrole//EN
METHOD:PUBLISH
X-MS-OLK-FORCEINSPECTOROPEN:TRUE
BEGIN:VTIMEZONE
TZID:America/Chicago
BEGIN:STANDARD
DTSTART:20260308T020000
TZOFFSETFROM:-0600
TZOFFSETTO:-0500
END:STANDARD
BEGIN:DAYLIGHT
DTSTART:20261101T020000
TZOFFSETFROM:-0500
TZOFFSETTO:-0600
END:DAYLIGHT
END:VTIMEZONE
BEGIN:VEVENT
UID:20260422T105436Z-428D8078
PRIORITY:5
CLASS:PUBLIC
TRANSP:OPAQUE
SEQUENCE:0
DTSTAMP:20260422T105436Z
DTSTART;TZID=America/Chicago:20260331T180000
DTEND;TZID=America/Chicago:20260331T220000
RRULE:FREQ=WEEKLY;COUNT=7;INTERVAL=1;BYDAY=TU
DESCRIPTION:Event Description:\n\nUpholstery Lab\n\nDiscover more tips and techniques to expand your upholstery abilities. Continue developing your skills and complete your project during this upholstery lab.\n\nEvent Schedule:\n\nEvery week on Tuesday, starting on 03/31/26 and ending on 05/12/26\n\nEvent Location:\n\nUpholstery Room (131)\n3420 South Memorial Drive\nTulsa, OK 74145\n
LOCATION:Upholstery Room (131), 3420 South Memorial Drive, Tulsa, OK, 74145
SUMMARY:Session Schedule: Upholstery Lab
BEGIN:VALARM
TRIGGER:-P1D
REPEAT:4
DURATION:PT6H
ACTION:DISPLAY
END:VALARM
END:VEVENT
END:VCALENDAR