BEGIN:VCALENDAR
VERSION:2.0
PRODID:-//entrinsik//Enrole//EN
METHOD:PUBLISH
X-MS-OLK-FORCEINSPECTOROPEN:TRUE
BEGIN:VTIMEZONE
TZID:America/Chicago
BEGIN:STANDARD
DTSTART:20260308T020000
TZOFFSETFROM:-0600
TZOFFSETTO:-0500
END:STANDARD
BEGIN:DAYLIGHT
DTSTART:20261101T020000
TZOFFSETFROM:-0500
TZOFFSETTO:-0600
END:DAYLIGHT
END:VTIMEZONE
BEGIN:VEVENT
UID:20260422T104737Z-428D5D50
PRIORITY:5
CLASS:PUBLIC
TRANSP:OPAQUE
SEQUENCE:0
DTSTAMP:20260422T104737Z
DTSTART;TZID=America/Chicago:20260513T180000
DTEND;TZID=America/Chicago:20260513T200000
RRULE:FREQ=WEEKLY;COUNT=3;INTERVAL=1;BYDAY=WE
DESCRIPTION:Event Description:\n\nCrochet & Knitting Lab\n\nBring your unfinished projects and receive expert assistance while expanding your skillset.\n\nEvent Schedule:\n\nEvery week on Wednesday, starting on 05/13/26 and ending on 05/27/26\n\nEvent Location:\n\nTraining Room 24 (2420)\n3638 South Memorial Drive\nTulsa, OK 74145\n
LOCATION:Training Room 24 (2420), 3638 South Memorial Drive, Tulsa, OK, 74145
SUMMARY:Session Schedule: Crochet & Knitting Lab
BEGIN:VALARM
TRIGGER:-P1D
REPEAT:4
DURATION:PT6H
ACTION:DISPLAY
END:VALARM
END:VEVENT
END:VCALENDAR