BEGIN:VCALENDAR
VERSION:2.0
PRODID:-//entrinsik//Enrole//EN
METHOD:PUBLISH
X-MS-OLK-FORCEINSPECTOROPEN:TRUE
BEGIN:VTIMEZONE
TZID:America/Chicago
BEGIN:STANDARD
DTSTART:20260308T020000
TZOFFSETFROM:-0600
TZOFFSETTO:-0500
END:STANDARD
BEGIN:DAYLIGHT
DTSTART:20261101T020000
TZOFFSETFROM:-0500
TZOFFSETTO:-0600
END:DAYLIGHT
END:VTIMEZONE
BEGIN:VEVENT
UID:20260422T105327Z-428D5968
PRIORITY:5
CLASS:PUBLIC
TRANSP:OPAQUE
SEQUENCE:0
DTSTAMP:20260422T105327Z
DTSTART;TZID=America/Chicago:20260402T180000
DTEND;TZID=America/Chicago:20260402T210000
RRULE:FREQ=WEEKLY;COUNT=7;INTERVAL=1;BYDAY=TH
DESCRIPTION:Event Description:\n\nFree Motion Quilting\n\nImmerse yourself in the world of quilting by delving into fabric preparation, mastering the walking foot, and unleashing your creativity through freehand quilting methods. Discover how to design patterns and gain the confidence to customize your quilting endeavors. You supply project materials.\n\nEvent Schedule:\n\nEvery week on Thursday, starting on 04/02/26 and ending on 05/14/26\n\nEvent Location:\n\nSewing Room (130)\n3420 South Memorial Drive\nTulsa, OK 74145\n
LOCATION:Sewing Room (130), 3420 South Memorial Drive, Tulsa, OK, 74145
SUMMARY:Session Schedule: Free Motion Quilting
BEGIN:VALARM
TRIGGER:-P1D
REPEAT:4
DURATION:PT6H
ACTION:DISPLAY
END:VALARM
END:VEVENT
END:VCALENDAR