BEGIN:VCALENDAR
VERSION:2.0
PRODID:-//entrinsik//Enrole//EN
METHOD:PUBLISH
X-MS-OLK-FORCEINSPECTOROPEN:TRUE
BEGIN:VTIMEZONE
TZID:America/New_York
BEGIN:STANDARD
DTSTART:20260308T020000
TZOFFSETFROM:-0500
TZOFFSETTO:-0400
END:STANDARD
BEGIN:DAYLIGHT
DTSTART:20261101T020000
TZOFFSETFROM:-0400
TZOFFSETTO:-0500
END:DAYLIGHT
END:VTIMEZONE
BEGIN:VEVENT
UID:20260422T071014Z-4D156909
PRIORITY:5
CLASS:PUBLIC
TRANSP:OPAQUE
SEQUENCE:0
DTSTAMP:20260422T071014Z
DTSTART;TZID=America/New_York:20260812T093000
DTEND;TZID=America/New_York:20260812T110000
DESCRIPTION:Event Description:\n\nAugust 12, 2026 Monthly Meeting - Michigan County Poor Farms \n\nLong before the advent of modern social welfare, county governments in Michigan maintained poorhouses or poor farms. Explore the early history of these facilities in their attempts to care for Michigan's poor, elderly, and destitute. Discover the lives and records of the inmates who resided at our state's poor farms. \n\nEvent Schedule:\n\nWednesday, August 12\n\nEvent Location:\n\nCurtiss Hall, Banquet Rooms\n7400 Bay Rd \nUniversity Center, MI 48710\n
LOCATION:Curtiss Hall, Banquet Rooms, 7400 Bay Rd, University Center, MI, 48710
SUMMARY:August 12, 2026 Monthly Meeting - Michigan County Poor Farms
BEGIN:VALARM
TRIGGER:-P1D
REPEAT:4
DURATION:PT6H
ACTION:DISPLAY
END:VALARM
END:VEVENT
END:VCALENDAR