BEGIN:VCALENDAR
VERSION:2.0
PRODID:-//entrinsik//Enrole//EN
METHOD:PUBLISH
X-MS-OLK-FORCEINSPECTOROPEN:TRUE
BEGIN:VTIMEZONE
TZID:America/New_York
BEGIN:STANDARD
DTSTART:20260308T020000
TZOFFSETFROM:-0500
TZOFFSETTO:-0400
END:STANDARD
BEGIN:DAYLIGHT
DTSTART:20261101T020000
TZOFFSETFROM:-0400
TZOFFSETTO:-0500
END:DAYLIGHT
END:VTIMEZONE
BEGIN:VEVENT
UID:20260422T071006Z-4D1597E8
PRIORITY:5
CLASS:PUBLIC
TRANSP:OPAQUE
SEQUENCE:0
DTSTAMP:20260422T071006Z
DTSTART;TZID=America/New_York:20260817T180000
DTEND;TZID=America/New_York:20260817T210000
DESCRIPTION:Event Description:\n\n633 Understanding Bitcoin: A Beginner's Guide \n\nCurious about Bitcoin but not sure what it is or how it works? This introductory class will explain the basics of Bitcoin and digital currency in simple terms. Learn what Bitcoin is, how it is created and used, and the technology behind it. This class is perfect for anyone who wants a clear, practical introduction to the world of cryptocurrency. \n\nEvent Schedule:\n\nMonday, August 17\n\nEvent Location:\n\nCurtiss Hall, Room 141\n7400 Bay Rd \nUniversity Center, MI 48710\n
LOCATION:Curtiss Hall, Room 141, 7400 Bay Rd, University Center, MI, 48710
SUMMARY:633 Understanding Bitcoin: A Beginner's Guide
BEGIN:VALARM
TRIGGER:-P1D
REPEAT:4
DURATION:PT6H
ACTION:DISPLAY
END:VALARM
END:VEVENT
END:VCALENDAR