BEGIN:VCALENDAR
VERSION:2.0
PRODID:-//entrinsik//Enrole//EN
METHOD:PUBLISH
X-MS-OLK-FORCEINSPECTOROPEN:TRUE
BEGIN:VTIMEZONE
TZID:America/New_York
BEGIN:STANDARD
DTSTART:20260308T020000
TZOFFSETFROM:-0500
TZOFFSETTO:-0400
END:STANDARD
BEGIN:DAYLIGHT
DTSTART:20261101T020000
TZOFFSETFROM:-0400
TZOFFSETTO:-0500
END:DAYLIGHT
END:VTIMEZONE
BEGIN:VEVENT
UID:20260422T013652Z-4D159401
PRIORITY:5
CLASS:PUBLIC
TRANSP:OPAQUE
SEQUENCE:0
DTSTAMP:20260422T013652Z
DTSTART;TZID=America/New_York:20260728T180000
DTEND;TZID=America/New_York:20260728T210000
DESCRIPTION:Event Description:\n\n632 Cutting the Cord \n\nCutting the cord with television cable bills becoming increasingly expensive, more people are cutting the cord by getting rid of cable. In this class, you will learn about its replacement, streaming, and how to get the most out of these services while also reducing your monthly bills. \n\nEvent Schedule:\n\nTuesday, July 28\n\nEvent Location:\n\nCurtiss Hall, Room 141\n7400 Bay Rd \nUniversity Center, MI 48710\n
LOCATION:Curtiss Hall, Room 141, 7400 Bay Rd, University Center, MI, 48710
SUMMARY:632 Cutting the Cord
BEGIN:VALARM
TRIGGER:-P1D
REPEAT:4
DURATION:PT6H
ACTION:DISPLAY
END:VALARM
END:VEVENT
END:VCALENDAR