BEGIN:VCALENDAR
VERSION:2.0
PRODID:-//entrinsik//Enrole//EN
METHOD:PUBLISH
X-MS-OLK-FORCEINSPECTOROPEN:TRUE
BEGIN:VTIMEZONE
TZID:America/New_York
BEGIN:STANDARD
DTSTART:20260308T020000
TZOFFSETFROM:-0500
TZOFFSETTO:-0400
END:STANDARD
BEGIN:DAYLIGHT
DTSTART:20261101T020000
TZOFFSETFROM:-0400
TZOFFSETTO:-0500
END:DAYLIGHT
END:VTIMEZONE
BEGIN:VEVENT
UID:20260422T064337Z-4D158C31
PRIORITY:5
CLASS:PUBLIC
TRANSP:OPAQUE
SEQUENCE:0
DTSTAMP:20260422T064337Z
DTSTART;TZID=America/New_York:20260714T150000
DTEND;TZID=America/New_York:20260714T160000
DESCRIPTION:Event Description:\n\n551 We the Women: The Hidden Heroes Who Shaped America by Norah O'Donnell \n\nAs part of the national America250 commemoration, this engaging book highlights the often-overlooked women whose courage and leadership helped shape our nation's history. \n\nEvent Schedule:\n\nTuesday, 7/14\n\nEvent Location:\n\nCurtiss Hall, Room 129\n7400 Bay Rd \nUniversity Center, MI 48710\n
LOCATION:Curtiss Hall, Room 129, 7400 Bay Rd, University Center, MI, 48710
SUMMARY:551 We the Women: The Hidden Heroes Who Shaped America by Norah O'Donnell
BEGIN:VALARM
TRIGGER:-P1D
REPEAT:4
DURATION:PT6H
ACTION:DISPLAY
END:VALARM
END:VEVENT
END:VCALENDAR