BEGIN:VCALENDAR
VERSION:2.0
PRODID:-//entrinsik//Enrole//EN
METHOD:PUBLISH
X-MS-OLK-FORCEINSPECTOROPEN:TRUE
BEGIN:VTIMEZONE
TZID:America/New_York
BEGIN:STANDARD
DTSTART:20260308T020000
TZOFFSETFROM:-0500
TZOFFSETTO:-0400
END:STANDARD
BEGIN:DAYLIGHT
DTSTART:20261101T020000
TZOFFSETFROM:-0400
TZOFFSETTO:-0500
END:DAYLIGHT
END:VTIMEZONE
BEGIN:VEVENT
UID:20260422T071015Z-4D156521
PRIORITY:5
CLASS:PUBLIC
TRANSP:OPAQUE
SEQUENCE:0
DTSTAMP:20260422T071015Z
DTSTART;TZID=America/New_York:20260825T100000
DTEND;TZID=America/New_York:20260825T113000
DESCRIPTION:Event Description:\n\n463 Saginaw Water Treatment Plant Tour \n\nJoin OLLI for a tour of the Saginaw Water Treatment Plant. Led by an expert guide, participants will embark on a captivating behind-the-scenes journey, unraveling the intricate processes responsible for delivering clean, safe drinking water to the community. This enlightening and educational experience provides a firsthand look at the vital operations sustaining our daily lives. Please note that the facility is not ADA-compliant and features many stairs, so consider this when planning your visit. \n\nEvent Schedule:\n\nTuesday, 8/25\n\nEvent Location:\n\nSaginaw Water Treatment Plant\n522 Ezra Rust Dr \nSaginaw, MI 48601\n
LOCATION:Saginaw Water Treatment Plant, 522 Ezra Rust Dr, Saginaw, MI, 48601
SUMMARY:463 Saginaw Water Treatment Plant Tour
BEGIN:VALARM
TRIGGER:-P1D
REPEAT:4
DURATION:PT6H
ACTION:DISPLAY
END:VALARM
END:VEVENT
END:VCALENDAR