BEGIN:VCALENDAR
VERSION:2.0
PRODID:-//entrinsik//Enrole//EN
METHOD:PUBLISH
X-MS-OLK-FORCEINSPECTOROPEN:TRUE
BEGIN:VTIMEZONE
TZID:America/New_York
BEGIN:STANDARD
DTSTART:20260308T020000
TZOFFSETFROM:-0500
TZOFFSETTO:-0400
END:STANDARD
BEGIN:DAYLIGHT
DTSTART:20261101T020000
TZOFFSETFROM:-0400
TZOFFSETTO:-0500
END:DAYLIGHT
END:VTIMEZONE
BEGIN:VEVENT
UID:20260422T071006Z-4D14C4F8
PRIORITY:5
CLASS:PUBLIC
TRANSP:OPAQUE
SEQUENCE:0
DTSTAMP:20260422T071006Z
DTSTART;TZID=America/New_York:20260810T100000
DTEND;TZID=America/New_York:20260810T113000
DESCRIPTION:Event Description:\n\n462 Bay City Electric Facility Tour & Energy Insights \n\nTake a behind-the-scenes tour of Bay City Electric to see how power is generated and delivered to the community. \n\nEvent Schedule:\n\nEvery day, starting on 08/10/26 and ending on 08/10/26\n\nEvent Location:\n\nBay City Electric Facility\n900 S. Water St. \nBay City, MI 48708\n
LOCATION:Bay City Electric Facility, 900 S. Water St., Bay City, MI, 48708
SUMMARY:462 Bay City Electric Facility Tour & Energy Insights
BEGIN:VALARM
TRIGGER:-P1D
REPEAT:4
DURATION:PT6H
ACTION:DISPLAY
END:VALARM
END:VEVENT
END:VCALENDAR