BEGIN:VCALENDAR
VERSION:2.0
PRODID:-//entrinsik//Enrole//EN
METHOD:PUBLISH
X-MS-OLK-FORCEINSPECTOROPEN:TRUE
BEGIN:VTIMEZONE
TZID:America/New_York
BEGIN:STANDARD
DTSTART:20260308T020000
TZOFFSETFROM:-0500
TZOFFSETTO:-0400
END:STANDARD
BEGIN:DAYLIGHT
DTSTART:20261101T020000
TZOFFSETFROM:-0400
TZOFFSETTO:-0500
END:DAYLIGHT
END:VTIMEZONE
BEGIN:VEVENT
UID:20260422T071007Z-4D156520
PRIORITY:5
CLASS:PUBLIC
TRANSP:OPAQUE
SEQUENCE:0
DTSTAMP:20260422T071007Z
DTSTART;TZID=America/New_York:20260819T100000
DTEND;TZID=America/New_York:20260819T113000
DESCRIPTION:Event Description:\n\n461 Tour of The Castle Museum \n\nEnjoy a guided tour of the Castle Museum, focusing on its history and architecture. \n\nEvent Schedule:\n\nWednesday, August 19, 2026\n\nEvent Location:\n\nCastle Building\n500 Federal Ave \nSaginaw, MI 48607\n
LOCATION:Castle Building, 500 Federal Ave, Saginaw, MI, 48607
SUMMARY:461 Tour of The Castle Museum
BEGIN:VALARM
TRIGGER:-P1D
REPEAT:4
DURATION:PT6H
ACTION:DISPLAY
END:VALARM
END:VEVENT
END:VCALENDAR