BEGIN:VCALENDAR
VERSION:2.0
PRODID:-//entrinsik//Enrole//EN
METHOD:PUBLISH
X-MS-OLK-FORCEINSPECTOROPEN:TRUE
BEGIN:VTIMEZONE
TZID:America/New_York
BEGIN:STANDARD
DTSTART:20260308T020000
TZOFFSETFROM:-0500
TZOFFSETTO:-0400
END:STANDARD
BEGIN:DAYLIGHT
DTSTART:20261101T020000
TZOFFSETFROM:-0400
TZOFFSETTO:-0500
END:DAYLIGHT
END:VTIMEZONE
BEGIN:VEVENT
UID:20260422T071008Z-4D158079
PRIORITY:5
CLASS:PUBLIC
TRANSP:OPAQUE
SEQUENCE:0
DTSTAMP:20260422T071008Z
DTSTART;TZID=America/New_York:20260715T100000
DTEND;TZID=America/New_York:20260715T120000
DESCRIPTION:Event Description:\n\n376 Raising and Rebuilding the Fleet After Pearl Harbor \n\nThis class covers the rapid repair and return of U.S. warships after Pearl Harbor, highlighting innovation and determination that strengthened the Pacific fleet. \n\nEvent Schedule:\n\nWednesday, 7/15\n\nEvent Location:\n\nCurtiss Hall, Room 129\n7400 Bay Rd \nUniversity Center, MI 48710\n
LOCATION:Curtiss Hall, Room 129, 7400 Bay Rd, University Center, MI, 48710
SUMMARY:376 Raising and Rebuilding the Fleet After Pearl Harbor
BEGIN:VALARM
TRIGGER:-P1D
REPEAT:4
DURATION:PT6H
ACTION:DISPLAY
END:VALARM
END:VEVENT
END:VCALENDAR