BEGIN:VCALENDAR
VERSION:2.0
PRODID:-//entrinsik//Enrole//EN
METHOD:PUBLISH
X-MS-OLK-FORCEINSPECTOROPEN:TRUE
BEGIN:VTIMEZONE
TZID:America/New_York
BEGIN:STANDARD
DTSTART:20260308T020000
TZOFFSETFROM:-0500
TZOFFSETTO:-0400
END:STANDARD
BEGIN:DAYLIGHT
DTSTART:20261101T020000
TZOFFSETFROM:-0400
TZOFFSETTO:-0500
END:DAYLIGHT
END:VTIMEZONE
BEGIN:VEVENT
UID:20260422T071015Z-4D158078
PRIORITY:5
CLASS:PUBLIC
TRANSP:OPAQUE
SEQUENCE:0
DTSTAMP:20260422T071015Z
DTSTART;TZID=America/New_York:20260713T130000
DTEND;TZID=America/New_York:20260713T150000
DESCRIPTION:Event Description:\n\n375 Before the Attack: The Road to Pearl Harbor \n\nThis one-day class explores the events, tensions, and decisions leading to Japan's 1941 attack on Pearl Harbor. \n\nEvent Schedule:\n\nMonday, 7/13\n\nEvent Location:\n\nCurtiss Hall, Room 129\n7400 Bay Rd \nUniversity Center, MI 48710\n
LOCATION:Curtiss Hall, Room 129, 7400 Bay Rd, University Center, MI, 48710
SUMMARY:375 Before the Attack: The Road to Pearl Harbor
BEGIN:VALARM
TRIGGER:-P1D
REPEAT:4
DURATION:PT6H
ACTION:DISPLAY
END:VALARM
END:VEVENT
END:VCALENDAR