BEGIN:VCALENDAR
VERSION:2.0
PRODID:-//entrinsik//Enrole//EN
METHOD:PUBLISH
X-MS-OLK-FORCEINSPECTOROPEN:TRUE
BEGIN:VTIMEZONE
TZID:America/New_York
BEGIN:STANDARD
DTSTART:20260308T020000
TZOFFSETFROM:-0500
TZOFFSETTO:-0400
END:STANDARD
BEGIN:DAYLIGHT
DTSTART:20261101T020000
TZOFFSETFROM:-0400
TZOFFSETTO:-0500
END:DAYLIGHT
END:VTIMEZONE
BEGIN:VEVENT
UID:20260422T061701Z-4D157C91
PRIORITY:5
CLASS:PUBLIC
TRANSP:OPAQUE
SEQUENCE:0
DTSTAMP:20260422T061701Z
DTSTART;TZID=America/New_York:20260708T180000
DTEND;TZID=America/New_York:20260708T190000
DESCRIPTION:Event Description:\n\n374 Independence Echoes: A 250th Anniversary Reading \n\nWhile independence was officially adopted on July 4, 1776, the news first reached the public on July 8. On that day, Colonel John Nixon delivered the first public reading of the Declaration in the State House Yard (now Independence Square) in Philadelphia. As part of the nationwide America250 initiative, OLLI will join in a synchronized public reading on July 8, 2026, at 6:00 p.m. Join us as we take part in this historic moment and celebrate the words that helped shape our nation. \n\nEvent Schedule:\n\nWednesday, 7/8\n\nEvent Location:\n\nCurtiss Hall, Room 129\n7400 Bay Rd \nUniversity Center, MI 48710\n
LOCATION:Curtiss Hall, Room 129, 7400 Bay Rd, University Center, MI, 48710
SUMMARY:374 Independence Echoes: A 250th Anniversary Reading
BEGIN:VALARM
TRIGGER:-P1D
REPEAT:4
DURATION:PT6H
ACTION:DISPLAY
END:VALARM
END:VEVENT
END:VCALENDAR