BEGIN:VCALENDAR
VERSION:2.0
PRODID:-//entrinsik//Enrole//EN
METHOD:PUBLISH
X-MS-OLK-FORCEINSPECTOROPEN:TRUE
BEGIN:VTIMEZONE
TZID:America/New_York
BEGIN:STANDARD
DTSTART:20260308T020000
TZOFFSETFROM:-0500
TZOFFSETTO:-0400
END:STANDARD
BEGIN:DAYLIGHT
DTSTART:20261101T020000
TZOFFSETFROM:-0400
TZOFFSETTO:-0500
END:DAYLIGHT
END:VTIMEZONE
BEGIN:VEVENT
UID:20260422T071006Z-4D157C90
PRIORITY:5
CLASS:PUBLIC
TRANSP:OPAQUE
SEQUENCE:0
DTSTAMP:20260422T071006Z
DTSTART;TZID=America/New_York:20260715T140000
DTEND;TZID=America/New_York:20260715T150000
DESCRIPTION:Event Description:\n\n373 Online Lecture: George Washington & the Road to Independence \n\nWe often think of George Washington as America's greatest patriot, but he came to independence reluctantly, fearing the risks of leadership. Join historian Dr. Edward Lengel as he explores how Washington's vision shaped the Revolutionary War. We will watch this program online together in the OLLI classroom as we look ahead to the nation's 250th anniversary. \n\nEvent Schedule:\n\nWednesday, 7/15\n\nEvent Location:\n\nCurtiss Hall, Room 129\n7400 Bay Rd \nUniversity Center, MI 48710\n
LOCATION:Curtiss Hall, Room 129, 7400 Bay Rd, University Center, MI, 48710
SUMMARY:373 Online Lecture: George Washington & the Road to Independence
BEGIN:VALARM
TRIGGER:-P1D
REPEAT:4
DURATION:PT6H
ACTION:DISPLAY
END:VALARM
END:VEVENT
END:VCALENDAR