BEGIN:VCALENDAR
VERSION:2.0
PRODID:-//entrinsik//Enrole//EN
METHOD:PUBLISH
X-MS-OLK-FORCEINSPECTOROPEN:TRUE
BEGIN:VTIMEZONE
TZID:America/New_York
BEGIN:STANDARD
DTSTART:20260308T020000
TZOFFSETFROM:-0500
TZOFFSETTO:-0400
END:STANDARD
BEGIN:DAYLIGHT
DTSTART:20261101T020000
TZOFFSETFROM:-0400
TZOFFSETTO:-0500
END:DAYLIGHT
END:VTIMEZONE
BEGIN:VEVENT
UID:20260422T042609Z-4D1578A9
PRIORITY:5
CLASS:PUBLIC
TRANSP:OPAQUE
SEQUENCE:0
DTSTAMP:20260422T042609Z
DTSTART;TZID=America/New_York:20260716T170000
DTEND;TZID=America/New_York:20260716T190000
DESCRIPTION:Event Description:\n\n316 Create & Take Home Your Own Charcuterie Board: New Techniques & Classic Skills \n\nWhether you are new to charcuterie or have taken this class before, you'll learn fresh techniques to craft a stunning and delicious board. All supplies included. \n\nEvent Schedule:\n\nThursday, July 16, 2026\n\nEvent Location:\n\nCurtiss Hall, Room 129\n7400 Bay Rd \nUniversity Center, MI 48710\n
LOCATION:Curtiss Hall, Room 129, 7400 Bay Rd, University Center, MI, 48710
SUMMARY:316 Create & Take Home Your Own Charcuterie Board: New Techniques & Classic Skills
BEGIN:VALARM
TRIGGER:-P1D
REPEAT:4
DURATION:PT6H
ACTION:DISPLAY
END:VALARM
END:VEVENT
END:VCALENDAR