BEGIN:VCALENDAR
VERSION:2.0
PRODID:-//entrinsik//Enrole//EN
METHOD:PUBLISH
X-MS-OLK-FORCEINSPECTOROPEN:TRUE
BEGIN:VTIMEZONE
TZID:America/New_York
BEGIN:STANDARD
DTSTART:20260308T020000
TZOFFSETFROM:-0500
TZOFFSETTO:-0400
END:STANDARD
BEGIN:DAYLIGHT
DTSTART:20261101T020000
TZOFFSETFROM:-0400
TZOFFSETTO:-0500
END:DAYLIGHT
END:VTIMEZONE
BEGIN:VEVENT
UID:20260422T071014Z-4D14C4F9
PRIORITY:5
CLASS:PUBLIC
TRANSP:OPAQUE
SEQUENCE:0
DTSTAMP:20260422T071014Z
DTSTART;TZID=America/New_York:20260730T113000
DTEND;TZID=America/New_York:20260730T133000
DESCRIPTION:Event Description:\n\n315 Ice Cream Social \n\nEnjoy a sweet summer outing at The Farm at Apple Acres! Relax, connect, and get to know fellow OLLI members at this flavorful gathering. \n\nEvent Schedule:\n\nThursday, July 30, 2026\n\nEvent Location:\n\nThe Farm at Apple Acres\n2282 E Salzburg Rd \nBay City, MI 48706\n
LOCATION:The Farm at Apple Acres, 2282 E Salzburg Rd, Bay City, MI, 48706
SUMMARY:315 Ice Cream Social
BEGIN:VALARM
TRIGGER:-P1D
REPEAT:4
DURATION:PT6H
ACTION:DISPLAY
END:VALARM
END:VEVENT
END:VCALENDAR