BEGIN:VCALENDAR
VERSION:2.0
PRODID:-//entrinsik//Enrole//EN
METHOD:PUBLISH
X-MS-OLK-FORCEINSPECTOROPEN:TRUE
BEGIN:VTIMEZONE
TZID:America/New_York
BEGIN:STANDARD
DTSTART:20260308T020000
TZOFFSETFROM:-0500
TZOFFSETTO:-0400
END:STANDARD
BEGIN:DAYLIGHT
DTSTART:20261101T020000
TZOFFSETFROM:-0400
TZOFFSETTO:-0500
END:DAYLIGHT
END:VTIMEZONE
BEGIN:VEVENT
UID:20260422T070935Z-4D159BD0
PRIORITY:5
CLASS:PUBLIC
TRANSP:OPAQUE
SEQUENCE:0
DTSTAMP:20260422T070935Z
DTSTART;TZID=America/New_York:20260713T170000
DTEND;TZID=America/New_York:20260713T180000
RRULE:FREQ=WEEKLY;COUNT=5;INTERVAL=1;BYDAY=MO
DESCRIPTION:Event Description:\n\n314 Pilates \n\nThis low-impact class strengthens your core, improves posture, and boosts mobility for better balance. Modifications make it accessible for all fitness levels. \n\nEvent Schedule:\n\nMondays, 7/13, 7/20, 7/27, 8/3, 8/10\n\nEvent Location:\n\nRyder Center, Room 244\n7400 Bay Rd \nUniversity Center, MI 48710\n
LOCATION:Ryder Center, Room 244, 7400 Bay Rd, University Center, MI, 48710
SUMMARY:314 Pilates
BEGIN:VALARM
TRIGGER:-P1D
REPEAT:4
DURATION:PT6H
ACTION:DISPLAY
END:VALARM
END:VEVENT
END:VCALENDAR