BEGIN:VCALENDAR
VERSION:2.0
PRODID:-//entrinsik//Enrole//EN
METHOD:PUBLISH
X-MS-OLK-FORCEINSPECTOROPEN:TRUE
BEGIN:VTIMEZONE
TZID:America/New_York
BEGIN:STANDARD
DTSTART:20260308T020000
TZOFFSETFROM:-0500
TZOFFSETTO:-0400
END:STANDARD
BEGIN:DAYLIGHT
DTSTART:20261101T020000
TZOFFSETFROM:-0400
TZOFFSETTO:-0500
END:DAYLIGHT
END:VTIMEZONE
BEGIN:VEVENT
UID:20260422T071007Z-4D1597E9
PRIORITY:5
CLASS:PUBLIC
TRANSP:OPAQUE
SEQUENCE:0
DTSTAMP:20260422T071007Z
DTSTART;TZID=America/New_York:20260721T111500
DTEND;TZID=America/New_York:20260721T121500
RRULE:FREQ=WEEKLY;COUNT=6;INTERVAL=1;BYDAY=TU
DESCRIPTION:Event Description:\n\n313 Vitality Flow: Yoga for Wisdom & Wellness \n\nImprove flexibility, build strength, and promote mindfulness and relaxation. \n\nEvent Schedule:\n\nTuesdays, 7/21, 7/28, 8/4, 8/11, 8/18, 8/25 \n\nEvent Location:\n\nRyder Center, Room 244\n7400 Bay Rd \nUniversity Center, MI 48710\n
LOCATION:Ryder Center, Room 244, 7400 Bay Rd, University Center, MI, 48710
SUMMARY:313 Vitality Flow: Yoga for Wisdom & Wellness
BEGIN:VALARM
TRIGGER:-P1D
REPEAT:4
DURATION:PT6H
ACTION:DISPLAY
END:VALARM
END:VEVENT
END:VCALENDAR