BEGIN:VCALENDAR
VERSION:2.0
PRODID:-//entrinsik//Enrole//EN
METHOD:PUBLISH
X-MS-OLK-FORCEINSPECTOROPEN:TRUE
BEGIN:VTIMEZONE
TZID:America/New_York
BEGIN:STANDARD
DTSTART:20260308T020000
TZOFFSETFROM:-0500
TZOFFSETTO:-0400
END:STANDARD
BEGIN:DAYLIGHT
DTSTART:20261101T020000
TZOFFSETFROM:-0400
TZOFFSETTO:-0500
END:DAYLIGHT
END:VTIMEZONE
BEGIN:VEVENT
UID:20260422T071015Z-4D159BD1
PRIORITY:5
CLASS:PUBLIC
TRANSP:OPAQUE
SEQUENCE:0
DTSTAMP:20260422T071015Z
DTSTART;TZID=America/New_York:20260721T080000
DTEND;TZID=America/New_York:20260721T094500
RRULE:FREQ=WEEKLY;COUNT=12;INTERVAL=1;BYDAY=TU,TH
DESCRIPTION:Event Description:\n\n311 Healthy Traveler \n\nBoost your travel readiness with this walking fitness course designed to increase endurance. \n\nEvent Schedule:\n\nTuesdays & Thursdays, 7/21, 7/23, 7/28, 7/30, 8/4, 8/6, 8/11, 8/13, 8/18, 8/20, 8/25, 8/27\n\nEvent Location:\n\nRyder Center - Fitness Center Track\n7400 Bay Rd \nUniversity Center, MI 48710\n
LOCATION:Ryder Center - Fitness Center Track, 7400 Bay Rd, University Center, MI, 48710
SUMMARY:311 Healthy Traveler
BEGIN:VALARM
TRIGGER:-P1D
REPEAT:4
DURATION:PT6H
ACTION:DISPLAY
END:VALARM
END:VEVENT
END:VCALENDAR