BEGIN:VCALENDAR
VERSION:2.0
PRODID:-//entrinsik//Enrole//EN
METHOD:PUBLISH
X-MS-OLK-FORCEINSPECTOROPEN:TRUE
BEGIN:VTIMEZONE
TZID:America/New_York
BEGIN:STANDARD
DTSTART:20260308T020000
TZOFFSETFROM:-0500
TZOFFSETTO:-0400
END:STANDARD
BEGIN:DAYLIGHT
DTSTART:20261101T020000
TZOFFSETFROM:-0400
TZOFFSETTO:-0500
END:DAYLIGHT
END:VTIMEZONE
BEGIN:VEVENT
UID:20260422T051649Z-53B07F00
PRIORITY:5
CLASS:PUBLIC
TRANSP:OPAQUE
SEQUENCE:0
DTSTAMP:20260422T051649Z
DTSTART;TZID=America/New_York:20260729T130000
DTEND;TZID=America/New_York:20260729T170000
DESCRIPTION:Event Description:\n\n223 Richard Attenborough's A Bridge Too Far: Watch & Discuss \n\nScreen Richard Attenborough's epic war film and join a discussion on its historical depiction of World War II. \n\nEvent Schedule:\n\nWednesday, 7/29\n\nEvent Location:\n\nCurtiss Hall, Room 129\n7400 Bay Rd \nUniversity Center, MI 48710\n
LOCATION:Curtiss Hall, Room 129, 7400 Bay Rd, University Center, MI, 48710
SUMMARY:223 Richard Attenborough's A Bridge Too Far: Watch & Discuss
BEGIN:VALARM
TRIGGER:-P1D
REPEAT:4
DURATION:PT6H
ACTION:DISPLAY
END:VALARM
END:VEVENT
END:VCALENDAR