BEGIN:VCALENDAR
VERSION:2.0
PRODID:-//entrinsik//Enrole//EN
METHOD:PUBLISH
X-MS-OLK-FORCEINSPECTOROPEN:TRUE
BEGIN:VTIMEZONE
TZID:America/New_York
BEGIN:STANDARD
DTSTART:20260308T020000
TZOFFSETFROM:-0500
TZOFFSETTO:-0400
END:STANDARD
BEGIN:DAYLIGHT
DTSTART:20261101T020000
TZOFFSETFROM:-0400
TZOFFSETTO:-0500
END:DAYLIGHT
END:VTIMEZONE
BEGIN:VEVENT
UID:20260422T071016Z-4D1570D8
PRIORITY:5
CLASS:PUBLIC
TRANSP:OPAQUE
SEQUENCE:0
DTSTAMP:20260422T071016Z
DTSTART;TZID=America/New_York:20260720T100000
DTEND;TZID=America/New_York:20260720T123000
DESCRIPTION:Event Description:\n\n222 The War of the Worlds: Watch & Discuss \n\nScreen the original War of the Worlds and join a discussion. \n\nEvent Schedule:\n\nMonday, 7/20\n\nEvent Location:\n\nCurtiss Hall, Room 100\n7400 Bay Rd \nUniversity Center, MI 48710\n
LOCATION:Curtiss Hall, Room 100, 7400 Bay Rd, University Center, MI, 48710
SUMMARY:222 The War of the Worlds: Watch & Discuss
BEGIN:VALARM
TRIGGER:-P1D
REPEAT:4
DURATION:PT6H
ACTION:DISPLAY
END:VALARM
END:VEVENT
END:VCALENDAR