BEGIN:VCALENDAR
VERSION:2.0
PRODID:-//entrinsik//Enrole//EN
METHOD:PUBLISH
X-MS-OLK-FORCEINSPECTOROPEN:TRUE
BEGIN:VTIMEZONE
TZID:America/New_York
BEGIN:STANDARD
DTSTART:20260308T020000
TZOFFSETFROM:-0500
TZOFFSETTO:-0400
END:STANDARD
BEGIN:DAYLIGHT
DTSTART:20261101T020000
TZOFFSETFROM:-0400
TZOFFSETTO:-0500
END:DAYLIGHT
END:VTIMEZONE
BEGIN:VEVENT
UID:20260422T025701Z-E5151940
PRIORITY:5
CLASS:PUBLIC
TRANSP:OPAQUE
SEQUENCE:0
DTSTAMP:20260422T025701Z
DTSTART;TZID=America/New_York:20260912T080000
DTEND;TZID=America/New_York:20260912T173000
RRULE:FREQ=DAILY;COUNT=2;INTERVAL=1
DESCRIPTION:Event Description:\n\nPhysical Agent Modalities Practitioner Credentialing Agency \n\n<b><u>Event Description:&nbsp;</u></b><div><br></div><div>The Physical Agent Modalities Practitioner Credentialing Agency, Inc., LLC (PAMPCA), has designed a continuing education course in PAMs for the busy therapist. PAMPCA, LLC, is the ONLY credentialing agency in Physical Agent Modalities for OT practitioners. You do not have to set aside multiple weekends to complete your credentialing training in physical agent modalities. Instead, you learn via the Internet in the comfort of your home or in small study groups, attend only one 16-hour workshop, and complete supervised clinical work. Our successful graduates are awarded 45 contact hours of continuing education credits. PAMPCA is an approved provider of continuing education by the American Occupational Therapy Association (#4859).</div><div><br></div><div>*All notifications are sent via email. Please make sure we have the correct email address. If you do not receive an email from us within the week, please call 989-964-4475 to verify your email. Special Notes: Qualify for a Discount! Please email opd@svsu.edu for a discount code. Send three or more from the same company; each receives $50 off the regular fee, paying only $649 each. Student registrations are offered a discounted rate of $600 (for currently enrolled students).  For any discount, we cannot go back and apply credit for registrations already completed.</div><div><br></div><div><b><u>LATE REGISTRATION:</u></b> Begins 14 business days prior to the workshop</div><div><br></div><div><b><u>LAST DAY TO REGISTER:</u></b> 7 business days prior to the workshop</div><div><br></div><div><u><i>Required Supplies:</i></u>&nbsp;&nbsp;</div><div><ul><li>We will send a book for the online portion</li><li>Tank top and shorts are required for the hands-on portion</li><li>We provide an additional workbook at the 2-day workshop</li></ul></div><div><br></div><div>Please see www.pampca.org for the required supervised clinical work.&nbsp;</div><div><br></div><div><i><u>Release of Liability:&nbsp;</u></i> It is agreed that PAMPCA, LLC. and the hosting site shall not be held liable for any damages or illnesses to the attendees or the attendees' lab partners suffered because of physical handling, lab setting, illness, or accidental injury from lab materials or another person.&nbsp; The attendee assumes full responsibility for their conduct and safety during this continuing education event and at any future time where injury, illness, or damage may result from its function. PAMPCA, LLC., and the hosting site will not assume any responsibility for damages or loss of any merchandise or articles left in the facility.</div><div><br></div><div><i><u>Image/Likeness Policy:&nbsp;</u></i> We may take photos at our courses and assume your attendance gives consent to have your image used in future marketing materials that may include website content, posts on social media, and other materials. If you wish to opt out, please notify us.</div><div><br></div><div><b><u>CANCELLATION/REFUND POLICY:</u></b> Notices received within 14 business days of the workshop start date are eligible for a refund, less a $120 cancellation fee and a&nbsp;$60 textbook fee.  Less than 14 business days prior to the start of the workshop, all fees &amp; registration are not refundable.  Transferring a registrant to an alternative workshop site is permissible on a one-time basis for a $60 processing fee and is contingent upon space availability.  We are unable to make transfers less than a week prior to the workshop start date.&nbsp; <span style="background-color: rgb(255, 255, 0);"><i><u>Note:</u></i> We reserve the right to cancel any workshop with insufficient registration. (You will be notified approximately 30 days before the date of the workshop of cancellation.) In that event, registrants will be encouraged to attend the workshop at a different location with no processing fee charged, or will be refunded the tuition amount minus a $60 textbook fee.</span></div><div><br></div><div>For further information on PAMPCA or the course layout please visit <a target="_blank" href="http://www.pampca.org/">http://www.pampca.org/&nbsp; </a>PAMPCA, LLC, is an approved provider of continuing education by the American Occupational Therapy Association. Each state may differ as to the number of contact hours required for physical agent modalities training, so make sure you check with your state Occupational Therapy Board.</div> \n\nEvent Schedule:\n\nSaturday, September 12 and Sunday, Sunday, September 13, 2026 - 8 am-5:30 pm\n\nEvent Location:\n\nMemorial Health University Medical Center\n4700 Waters Avenue \nSavannah, GA 31404\n
LOCATION:Memorial Health University Medical Center, 4700 Waters Avenue, Savannah, GA, 31404
SUMMARY:Physical Agent Modalities Practitioner Credentialing Agency
BEGIN:VALARM
TRIGGER:-P1D
REPEAT:4
DURATION:PT6H
ACTION:DISPLAY
END:VALARM
END:VEVENT
END:VCALENDAR